BEGIN:VCALENDAR
VERSION:2.0
PRODID:-//Antioch University - ECPv6.15.20//NONSGML v1.0//EN
CALSCALE:GREGORIAN
METHOD:PUBLISH
X-ORIGINAL-URL:https://www.antioch.edu
X-WR-CALDESC:Events for Antioch University
REFRESH-INTERVAL;VALUE=DURATION:PT1H
X-Robots-Tag:noindex
X-PUBLISHED-TTL:PT1H
BEGIN:VTIMEZONE
TZID:America/New_York
BEGIN:DAYLIGHT
TZOFFSETFROM:-0500
TZOFFSETTO:-0400
TZNAME:EDT
DTSTART:20250309T070000
END:DAYLIGHT
BEGIN:STANDARD
TZOFFSETFROM:-0400
TZOFFSETTO:-0500
TZNAME:EST
DTSTART:20251102T060000
END:STANDARD
BEGIN:DAYLIGHT
TZOFFSETFROM:-0500
TZOFFSETTO:-0400
TZNAME:EDT
DTSTART:20260308T070000
END:DAYLIGHT
BEGIN:STANDARD
TZOFFSETFROM:-0400
TZOFFSETTO:-0500
TZNAME:EST
DTSTART:20261101T060000
END:STANDARD
BEGIN:DAYLIGHT
TZOFFSETFROM:-0500
TZOFFSETTO:-0400
TZNAME:EDT
DTSTART:20270314T070000
END:DAYLIGHT
BEGIN:STANDARD
TZOFFSETFROM:-0400
TZOFFSETTO:-0500
TZNAME:EST
DTSTART:20271107T060000
END:STANDARD
END:VTIMEZONE
BEGIN:VEVENT
DTSTART;TZID=America/New_York:20260602T180000
DTEND;TZID=America/New_York:20260602T190000
DTSTAMP:20260420T111944
CREATED:20260414T160328Z
LAST-MODIFIED:20260414T160330Z
UID:10004519-1780423200-1780426800@www.antioch.edu
SUMMARY:Landmark College and AU CMHC and Experienced Educators | AU
DESCRIPTION:You want to gain practical tools to make a real impact in education\, workplaces\, or communities with neurodiverse individuals. Antioch University and Landmark College are partnering to enhance your learning so you can make a difference. \n\n\n\n📌Why Antioch University? We specialize in student-centered learning. Our programs offer small class sizes\, personalized advising\, and flexible learning formats\, giving students a degree option to fit their lives. \n\n\n\n📌Why Landmark College? With their expertise in people who learn differently\, Landmark College's Certificate in Learning Differences and Neurodiversity will help you support individuals with ADHD\, autism\, or learning disabilities. \n\n\n\nJoin us in this informative webinar on Tuesday\, June 2\, 2026\, 6:00 PM - 7:00 PM EDT to learn more about Antioch University's MA in Clinical Mental Health Counseling\, Antioch's MEd for Experienced Educators\, or Landmark College's Certificate in Learning Differences and Neurodiversity - and how you can apply courses from one to the other.
URL:https://www.antioch.edu/event/landmark-college-and-au-cmhc-and-experienced-educators-au-6-2-26/
LOCATION:Virtual Events @ Antioch University
CATEGORIES:Admissions,AUNE Clinical Mental Health Counseling,AUNE Education
ATTACH;FMTTYPE=image/jpeg:https://www.antioch.edu/wp-content/uploads/2026/04/collage-of-hands-forming-a-heart-e1776182584594.jpg
ORGANIZER;CN="AUNE Admissions":MAILTO:admissions.ane@antioch.edu
END:VEVENT
END:VCALENDAR