BEGIN:VCALENDAR
VERSION:2.0
PRODID:-//Antioch University - ECPv6.15.20//NONSGML v1.0//EN
CALSCALE:GREGORIAN
METHOD:PUBLISH
X-ORIGINAL-URL:https://www.antioch.edu
X-WR-CALDESC:Events for Antioch University
REFRESH-INTERVAL;VALUE=DURATION:PT1H
X-Robots-Tag:noindex
X-PUBLISHED-TTL:PT1H
BEGIN:VTIMEZONE
TZID:America/Los_Angeles
BEGIN:DAYLIGHT
TZOFFSETFROM:-0800
TZOFFSETTO:-0700
TZNAME:PDT
DTSTART:20240310T100000
END:DAYLIGHT
BEGIN:STANDARD
TZOFFSETFROM:-0700
TZOFFSETTO:-0800
TZNAME:PST
DTSTART:20241103T090000
END:STANDARD
BEGIN:DAYLIGHT
TZOFFSETFROM:-0800
TZOFFSETTO:-0700
TZNAME:PDT
DTSTART:20250309T100000
END:DAYLIGHT
BEGIN:STANDARD
TZOFFSETFROM:-0700
TZOFFSETTO:-0800
TZNAME:PST
DTSTART:20251102T090000
END:STANDARD
BEGIN:DAYLIGHT
TZOFFSETFROM:-0800
TZOFFSETTO:-0700
TZNAME:PDT
DTSTART:20260308T100000
END:DAYLIGHT
BEGIN:STANDARD
TZOFFSETFROM:-0700
TZOFFSETTO:-0800
TZNAME:PST
DTSTART:20261101T090000
END:STANDARD
END:VTIMEZONE
BEGIN:VEVENT
DTSTART;TZID=America/Los_Angeles:20250605T170000
DTEND;TZID=America/Los_Angeles:20250605T180000
DTSTAMP:20260424T054323
CREATED:20250417T162609Z
LAST-MODIFIED:20250417T162610Z
UID:10004322-1749142800-1749146400@www.antioch.edu
SUMMARY:Masters in Clinical Psychology Info Session | AULA
DESCRIPTION:Please join us to learn more about Antioch’s MA in Clinical Psychology\, offered by our Los Angeles campus. This info session is a great opportunity to learn more about the program\, talk to our faculty about degree requirements and career outcomes\, and hear about all our Psychology specializations: \n\n\n\n– Addiction and Recovery– Applied Community Psychology– Child Studies– General Practice Specialization– LGBT-Affirmative Psychology– Professional Clinical Counselor– Psychological Trauma Studies– Spiritual and Depth PsychologyThis info session will be held using Zoom on Thursday\, June 5\, 2025\, 5:00 PM - 6:00 PM PDT. Login information will be included in your registration confirmation email.
URL:https://www.antioch.edu/event/masters-in-clinical-psychology-info-session-aula-6-5-25/
LOCATION:Virtual Events @ Antioch University
CATEGORIES:Admissions,AULA Psychology
ATTACH;FMTTYPE=image/jpeg:https://www.antioch.edu/wp-content/uploads/2025/04/GettyImages-184295046-scaled-e1744907112849.jpeg
ORGANIZER;CN="AULA Admissions":MAILTO:admissions.aula@antioch.edu
END:VEVENT
END:VCALENDAR