BEGIN:VCALENDAR
VERSION:2.0
PRODID:-//Antioch University - ECPv6.15.20//NONSGML v1.0//EN
CALSCALE:GREGORIAN
METHOD:PUBLISH
X-WR-CALNAME:Antioch University
X-ORIGINAL-URL:https://www.antioch.edu
X-WR-CALDESC:Events for Antioch University
REFRESH-INTERVAL;VALUE=DURATION:PT1H
X-Robots-Tag:noindex
X-PUBLISHED-TTL:PT1H
BEGIN:VTIMEZONE
TZID:America/New_York
BEGIN:DAYLIGHT
TZOFFSETFROM:-0500
TZOFFSETTO:-0400
TZNAME:EDT
DTSTART:20240310T070000
END:DAYLIGHT
BEGIN:STANDARD
TZOFFSETFROM:-0400
TZOFFSETTO:-0500
TZNAME:EST
DTSTART:20241103T060000
END:STANDARD
BEGIN:DAYLIGHT
TZOFFSETFROM:-0500
TZOFFSETTO:-0400
TZNAME:EDT
DTSTART:20250309T070000
END:DAYLIGHT
BEGIN:STANDARD
TZOFFSETFROM:-0400
TZOFFSETTO:-0500
TZNAME:EST
DTSTART:20251102T060000
END:STANDARD
BEGIN:DAYLIGHT
TZOFFSETFROM:-0500
TZOFFSETTO:-0400
TZNAME:EDT
DTSTART:20260308T070000
END:DAYLIGHT
BEGIN:STANDARD
TZOFFSETFROM:-0400
TZOFFSETTO:-0500
TZNAME:EST
DTSTART:20261101T060000
END:STANDARD
END:VTIMEZONE
BEGIN:VEVENT
DTSTART;TZID=America/New_York:20250617T120000
DTEND;TZID=America/New_York:20250617T130000
DTSTAMP:20260421T163822
CREATED:20250603T140757Z
LAST-MODIFIED:20250606T172147Z
UID:10004343-1750161600-1750165200@www.antioch.edu
SUMMARY:Nursing Programs Info Session | AUO
DESCRIPTION:Join us for a one-hour virtual information session on Tuesday\, June 17\, 2025\, 12:00 PM - 1:00 PM EDT with Antioch University's Graduate School of Nursing and Health Professions. This session will provide an overview of our nursing programs\, emphasizing our commitment to social justice and transformative healthcare education. You'll have the opportunity to engage directly with faculty members and Admissions representatives to discuss program specifics\, curriculum\, and the admissions process. Whether you're considering advancing your nursing career or transitioning into the field\, this session will offer valuable insights into how Antioch's programs can help you achieve your goals.Choose from a Doctor of Nursing Practice (DNP)\, Master of Science in Nursing (MSN)\, or Post-Graduate Certificate in either Family Nurse Practitioner or Psychiatric and Mental Health Practitioner\, or a Doctor of Nursing Practice with a specialization in Nurse Executive or Advanced Practice.As Proud Co-Founder of the Coalition for the Common Good\, Antioch University offers nursing programs with a rich tradition of excellence\, honed over 45 years by dedicated nursing professionals. Formerly anchored at Otterbein University\, this initiative now thrives at Antioch\, continuing a legacy of quality and practical expertise. Benefit from our flexible\, student-centered graduate model\, designed to empower you with clinical confidence and personalized support\, ensuring you’re prepared to excel in your nursing practice.
URL:https://www.antioch.edu/event/nursing-programs-info-session-auo-6-17-25/
LOCATION:Virtual Events @ Antioch University
CATEGORIES:Admissions,AUO Nursing
ATTACH;FMTTYPE=image/jpeg:https://www.antioch.edu/wp-content/uploads/2024/06/AU-SNHP-NursePractioner-e1748959627270.jpg
END:VEVENT
BEGIN:VEVENT
DTSTART;TZID=America/New_York:20250617T180000
DTEND;TZID=America/New_York:20250617T190000
DTSTAMP:20260421T163822
CREATED:20250423T170105Z
LAST-MODIFIED:20250423T170106Z
UID:10004328-1750183200-1750186800@www.antioch.edu
SUMMARY:EdD Info Session | AUO
DESCRIPTION:The Doctor of Education in Educational and Professional Practice (EdD) is intended for professionals who use educational practices to serve social\, economic\, and environmental justice in schools and beyond. The program is designed with working adults in mind. You will study with an accomplished\, diverse\, and caring faculty who will guide you through a transdisciplinary curriculum integrating scholarship and practice. \n\n\n\nJoin us for our EdD information session on Tuesday\, June 17\, 2025\, 6:00 PM - 7:00 PM EDT\, for an overview of the program\, including core courses\, our approach to dissertations\, and a question and answer session about Antioch University’s EdD program. \n\n\n\nThis info session will be held using Zoom. Login information will be sent in an email confirmation upon registration.
URL:https://www.antioch.edu/event/edd-info-session-auo-6-17-25/
LOCATION:Virtual Events @ Antioch University
CATEGORIES:Admissions,AUO Education
ATTACH;FMTTYPE=image/jpeg:https://www.antioch.edu/wp-content/uploads/2025/04/GettyImages-1393571870-Copy-e1745427640170.jpg
END:VEVENT
BEGIN:VEVENT
DTSTART;TZID=America/New_York:20250618T183000
DTEND;TZID=America/New_York:20250618T193000
DTSTAMP:20260421T163822
CREATED:20250424T135742Z
LAST-MODIFIED:20250424T135743Z
UID:10004330-1750271400-1750275000@www.antioch.edu
SUMMARY:Undergraduate Programs Info Session | AUO
DESCRIPTION:If you seek change on a professional and personal level\, you’ve found a school that can empower you to take the next step. We have multiple 100% online undergraduate options designed to be compatible with almost any adult student. Take a look at Antioch Online’s Undergraduate Programs. We can help you achieve your goals and begin your next adventure. \n\n\n\nPlease join the Undergraduate program faculty on Wednesday\, June 18\, 2025\, 6:30 PM - 7:30 PM EDT for an information session about the program\, courses\, and opportunities. This info session will be held using Zoom. Login information will be sent via email confirmation upon registration.
URL:https://www.antioch.edu/event/undergraduate-programs-info-session-auo-6-18-25/
LOCATION:Virtual Events @ Antioch University
CATEGORIES:Admissions,AUO Undergraduate Studies
ATTACH;FMTTYPE=image/png:https://www.antioch.edu/wp-content/uploads/2025/04/Untitled-design-10.png
END:VEVENT
BEGIN:VEVENT
DTSTART;TZID=America/New_York:20250624T120000
DTEND;TZID=America/New_York:20250624T130000
DTSTAMP:20260421T163822
CREATED:20250509T143929Z
LAST-MODIFIED:20250509T143930Z
UID:10004335-1750766400-1750770000@www.antioch.edu
SUMMARY:Master's in Exercise Science & Healthcare Administration Info Session | AUO
DESCRIPTION:Unlock Your Future in Healthcare: Explore Our Master's Degrees in Exercise Science & Healthcare Administration \n\n\n\nJoin us to learn more about Antioch’s online Master of Science in Allied Health (MSAH)\, with concentrations in Exercise Science & Healthcare Administration. \n\n\n\nDevelop the administrative and critical thinking skills necessary to manage\, communicate\, and lead effectively in a profession that is in high demand. The online MSAH (Allied Health) program deepens critical thinking skills and enhances data analysis capabilities. This degree is ideal for those aspiring to leadership roles within educational institutions\, hospitals\, community health centers\, and more. Gain the cultural sensitivity\, communication skills\, and confidence you need to thrive as an industry leader.This info session will be held using Zoom on Tuesday\, June 24\, 2025\, 12:00 PM - 1:00 PM EDT. Login information will be included in your registration confirmation email.
URL:https://www.antioch.edu/event/masters-in-exercise-science-amp-healthcare-administration-info-session-auo-6-24-25/
LOCATION:Virtual Events @ Antioch University
CATEGORIES:Admissions,AUO Allied Health
ATTACH;FMTTYPE=image/png:https://www.antioch.edu/wp-content/uploads/2025/05/Untitled-design-12.png
END:VEVENT
BEGIN:VEVENT
DTSTART;TZID=America/New_York:20250630T163000
DTEND;TZID=America/New_York:20250630T173000
DTSTAMP:20260421T163822
CREATED:20250509T181337Z
LAST-MODIFIED:20250509T181338Z
UID:10004336-1751301000-1751304600@www.antioch.edu
SUMMARY:MS Athletic Training (MSAT) Info Session | AUO
DESCRIPTION:Are you a recent graduate with a bachelor's in Athletic training\, or will you be graduating from a program soon? Maybe you are early in your bachelor's program and want to understand more about how to prepare for a Master's program. Join us on Monday\, June 30\, 2025\, 4:30 PM - 5:30 PM EDT to learn more about Antioch University’s Master of Science in Athletic Training (MSAT). This program offers hands-on experience in college\, high school\, and clinical environments. \n\n\n\nAntioch University’s MSAT program prepares you to become an influential leader in athletic training\, dedicated to improving the lives of active individuals. Start your journey with us and make a lasting impact in the field.
URL:https://www.antioch.edu/event/ms-athletic-training-msat-info-session-auo-6-30-25/
LOCATION:Virtual Events @ Antioch University
CATEGORIES:Admissions,AUO MS Athletic Training
ATTACH;FMTTYPE=image/jpeg:https://www.antioch.edu/wp-content/uploads/2025/05/GettyImages-1319768894-scaled-e1746814388906.jpg
END:VEVENT
END:VCALENDAR