BEGIN:VCALENDAR
VERSION:2.0
PRODID:-//Antioch University - ECPv6.15.20//NONSGML v1.0//EN
CALSCALE:GREGORIAN
METHOD:PUBLISH
X-WR-CALNAME:Antioch University
X-ORIGINAL-URL:https://www.antioch.edu
X-WR-CALDESC:Events for Antioch University
REFRESH-INTERVAL;VALUE=DURATION:PT1H
X-Robots-Tag:noindex
X-PUBLISHED-TTL:PT1H
BEGIN:VTIMEZONE
TZID:America/New_York
BEGIN:DAYLIGHT
TZOFFSETFROM:-0500
TZOFFSETTO:-0400
TZNAME:EDT
DTSTART:20240310T070000
END:DAYLIGHT
BEGIN:STANDARD
TZOFFSETFROM:-0400
TZOFFSETTO:-0500
TZNAME:EST
DTSTART:20241103T060000
END:STANDARD
BEGIN:DAYLIGHT
TZOFFSETFROM:-0500
TZOFFSETTO:-0400
TZNAME:EDT
DTSTART:20250309T070000
END:DAYLIGHT
BEGIN:STANDARD
TZOFFSETFROM:-0400
TZOFFSETTO:-0500
TZNAME:EST
DTSTART:20251102T060000
END:STANDARD
BEGIN:DAYLIGHT
TZOFFSETFROM:-0500
TZOFFSETTO:-0400
TZNAME:EDT
DTSTART:20260308T070000
END:DAYLIGHT
BEGIN:STANDARD
TZOFFSETFROM:-0400
TZOFFSETTO:-0500
TZNAME:EST
DTSTART:20261101T060000
END:STANDARD
END:VTIMEZONE
BEGIN:VTIMEZONE
TZID:America/Los_Angeles
BEGIN:DAYLIGHT
TZOFFSETFROM:-0800
TZOFFSETTO:-0700
TZNAME:PDT
DTSTART:20240310T100000
END:DAYLIGHT
BEGIN:STANDARD
TZOFFSETFROM:-0700
TZOFFSETTO:-0800
TZNAME:PST
DTSTART:20241103T090000
END:STANDARD
BEGIN:DAYLIGHT
TZOFFSETFROM:-0800
TZOFFSETTO:-0700
TZNAME:PDT
DTSTART:20250309T100000
END:DAYLIGHT
BEGIN:STANDARD
TZOFFSETFROM:-0700
TZOFFSETTO:-0800
TZNAME:PST
DTSTART:20251102T090000
END:STANDARD
BEGIN:DAYLIGHT
TZOFFSETFROM:-0800
TZOFFSETTO:-0700
TZNAME:PDT
DTSTART:20260308T100000
END:DAYLIGHT
BEGIN:STANDARD
TZOFFSETFROM:-0700
TZOFFSETTO:-0800
TZNAME:PST
DTSTART:20261101T090000
END:STANDARD
END:VTIMEZONE
BEGIN:VEVENT
DTSTART;TZID=America/New_York:20251108T103000
DTEND;TZID=America/New_York:20251108T130000
DTSTAMP:20260424T023125
CREATED:20251013T152216Z
LAST-MODIFIED:20251013T171030Z
UID:10004410-1762597800-1762606800@www.antioch.edu
SUMMARY:CMHC Visiting Day (*In Person*)| AU - Midwest Campus
DESCRIPTION:Antioch University's MA in Clinical Mental Health Counseling Visiting Day provides prospective students with an opportunity to learn more about our on-campus low-residency weekend delivery program\, engage directly with faculty\, and learn about Antioch’s commitment to social justice as an integral part of our mission. \n\n\n\nVisit us in person at our Midwest campus in Yellow Springs\, OH\, located at 900 Dayton St\, Yellow Springs\, OH 45387\, to meet current students\, alumni\, and faculty\, and observe our classroom experience. Join us to see how our weekend delivery model integrates experiential and embodied learning on Saturday\, November 8\, 2025\, 10:30 AM - 1:00 PM EST! Lunch will be provided. \n\n\n\nAgenda:10:30 am - Welcome10:45 am - Classroom Experience12:00 pm - Lunch and Networking with Faculty & Staff \n\n\n\n\n\n\n\nAU Midwest Campus900 Dayton St. Yellow Springs\, OH 45387
URL:https://www.antioch.edu/event/cmhc-visiting-day-in-person-au-midwest-campus-11-08-25/
CATEGORIES:Admissions,AUNE Clinical Mental Health Counseling,AUS Clinical Mental Health Counseling,Campus Events,counseling, psychology, therapy
ATTACH;FMTTYPE=image/jpeg:https://www.antioch.edu/wp-content/uploads/2025/10/GettyImages-1487907648-2.jpg
END:VEVENT
BEGIN:VEVENT
DTSTART;TZID=America/Los_Angeles:20251115T103000
DTEND;TZID=America/Los_Angeles:20251115T130000
DTSTAMP:20260424T023125
CREATED:20251013T170743Z
LAST-MODIFIED:20251013T192643Z
UID:10004411-1763202600-1763211600@www.antioch.edu
SUMMARY:CMHC Visiting Day (*In Person*) | AUS
DESCRIPTION:Antioch University's MA in Clinical Mental Health Counseling Visiting Day provides prospective students with an opportunity to learn more about our on-campus low-residency weekend delivery program\, engage directly with faculty\, and learn about Antioch’s commitment to social justice as an integral part of our mission. \n\n\n\nVisit us *in person* at our Seattle campus on Saturday\, November 15\, 2025\, 10:30 AM - 1:00 PM PST\, to meet and greet current students\, alumni\, and faculty\, and observe our classroom experience. Come see how our weekend delivery model integrates experiential and embodied learning! Lunch will be provided. \n\n\n\nAgenda:10:30 am - Welcome10:45 am - Classroom Experience12:00 pm - Lunch and Networking with Faculty & Staff \n\n\n\n\n\n\n\n\n\n2400 3rd Ave. #200Seattle\, WA 98121
URL:https://www.antioch.edu/event/cmhc-visiting-day-in-person-aus-11-15-25/
LOCATION:Antioch University Seattle\, Room 202A\, WA\, United States
CATEGORIES:Admissions,AUS Clinical Mental Health Counseling
ATTACH;FMTTYPE=image/jpeg:https://www.antioch.edu/wp-content/uploads/2025/10/GettyImages-1073772738.jpg
ORGANIZER;CN="AUS Admissions":MAILTO:admissions.aus@antioch.edu
GEO:47.7510741;-120.7401385
END:VEVENT
END:VCALENDAR