BEGIN:VCALENDAR
VERSION:2.0
PRODID:-//Antioch University - ECPv6.15.20//NONSGML v1.0//EN
CALSCALE:GREGORIAN
METHOD:PUBLISH
X-WR-CALNAME:Antioch University
X-ORIGINAL-URL:https://www.antioch.edu
X-WR-CALDESC:Events for Antioch University
REFRESH-INTERVAL;VALUE=DURATION:PT1H
X-Robots-Tag:noindex
X-PUBLISHED-TTL:PT1H
BEGIN:VTIMEZONE
TZID:America/Los_Angeles
BEGIN:DAYLIGHT
TZOFFSETFROM:-0800
TZOFFSETTO:-0700
TZNAME:PDT
DTSTART:20240310T100000
END:DAYLIGHT
BEGIN:STANDARD
TZOFFSETFROM:-0700
TZOFFSETTO:-0800
TZNAME:PST
DTSTART:20241103T090000
END:STANDARD
BEGIN:DAYLIGHT
TZOFFSETFROM:-0800
TZOFFSETTO:-0700
TZNAME:PDT
DTSTART:20250309T100000
END:DAYLIGHT
BEGIN:STANDARD
TZOFFSETFROM:-0700
TZOFFSETTO:-0800
TZNAME:PST
DTSTART:20251102T090000
END:STANDARD
BEGIN:DAYLIGHT
TZOFFSETFROM:-0800
TZOFFSETTO:-0700
TZNAME:PDT
DTSTART:20260308T100000
END:DAYLIGHT
BEGIN:STANDARD
TZOFFSETFROM:-0700
TZOFFSETTO:-0800
TZNAME:PST
DTSTART:20261101T090000
END:STANDARD
END:VTIMEZONE
BEGIN:VEVENT
DTSTART;TZID=America/Los_Angeles:20250610T160000
DTEND;TZID=America/Los_Angeles:20250610T170000
DTSTAMP:20260421T235849
CREATED:20250505T205317Z
LAST-MODIFIED:20250505T205318Z
UID:10004333-1749571200-1749574800@www.antioch.edu
SUMMARY:Low-Residency Masters in Couple and Family Therapy Info Session | AU
DESCRIPTION:Transform Relationships: Explore a Master's in Couple and Family Therapy at Antioch University \n\n\n\nJoin us for an insightful info session on our Master's in Couple and Family Therapy program\, where you’ll learn to help individuals\, couples\, and families navigate complex dynamics and build stronger\, healthier relationships. This program is perfect for those passionate about working directly with relational systems\, offering specialized training in traditional and alternative relationships\, family therapy\, conflict resolution\, and therapeutic techniques designed to foster lasting change. \n\n\n\nOur Couple & Family Therapy information sessions provide prospective students with an opportunity to learn more about our low-residency online program\, engage directly with faculty through an informal question-and-answer session\, and discover Antioch University’s commitment to social justice as an integral part of our mission. \n\n\n\nJoin us virtually on Tuesday\, June 10\, 2025\, 4:00 PM - 5:00 PM PDT to find out if Antioch University is the right fit for you and take the first step toward making a meaningful impact in the lives of individuals\, couples\, and families.
URL:https://www.antioch.edu/event/low-residency-masters-in-couple-and-family-therapy-info-session-au-6-10-25/
LOCATION:Virtual Events @ Antioch University
CATEGORIES:Admissions,AUS Couple & Family Therapy
ATTACH;FMTTYPE=image/jpeg:https://www.antioch.edu/wp-content/uploads/2025/05/GettyImages-1324374768-1-e1746478314371.jpg
ORGANIZER;CN="AUS Admissions":MAILTO:admissions.aus@antioch.edu
END:VEVENT
END:VCALENDAR