BEGIN:VCALENDAR
VERSION:2.0
PRODID:-//Antioch University - ECPv6.15.20//NONSGML v1.0//EN
CALSCALE:GREGORIAN
METHOD:PUBLISH
X-WR-CALNAME:Antioch University
X-ORIGINAL-URL:https://www.antioch.edu
X-WR-CALDESC:Events for Antioch University
REFRESH-INTERVAL;VALUE=DURATION:PT1H
X-Robots-Tag:noindex
X-PUBLISHED-TTL:PT1H
BEGIN:VTIMEZONE
TZID:America/Los_Angeles
BEGIN:DAYLIGHT
TZOFFSETFROM:-0800
TZOFFSETTO:-0700
TZNAME:PDT
DTSTART:20240310T100000
END:DAYLIGHT
BEGIN:STANDARD
TZOFFSETFROM:-0700
TZOFFSETTO:-0800
TZNAME:PST
DTSTART:20241103T090000
END:STANDARD
BEGIN:DAYLIGHT
TZOFFSETFROM:-0800
TZOFFSETTO:-0700
TZNAME:PDT
DTSTART:20250309T100000
END:DAYLIGHT
BEGIN:STANDARD
TZOFFSETFROM:-0700
TZOFFSETTO:-0800
TZNAME:PST
DTSTART:20251102T090000
END:STANDARD
BEGIN:DAYLIGHT
TZOFFSETFROM:-0800
TZOFFSETTO:-0700
TZNAME:PDT
DTSTART:20260308T100000
END:DAYLIGHT
BEGIN:STANDARD
TZOFFSETFROM:-0700
TZOFFSETTO:-0800
TZNAME:PST
DTSTART:20261101T090000
END:STANDARD
END:VTIMEZONE
BEGIN:VTIMEZONE
TZID:America/New_York
BEGIN:DAYLIGHT
TZOFFSETFROM:-0500
TZOFFSETTO:-0400
TZNAME:EDT
DTSTART:20240310T070000
END:DAYLIGHT
BEGIN:STANDARD
TZOFFSETFROM:-0400
TZOFFSETTO:-0500
TZNAME:EST
DTSTART:20241103T060000
END:STANDARD
BEGIN:DAYLIGHT
TZOFFSETFROM:-0500
TZOFFSETTO:-0400
TZNAME:EDT
DTSTART:20250309T070000
END:DAYLIGHT
BEGIN:STANDARD
TZOFFSETFROM:-0400
TZOFFSETTO:-0500
TZNAME:EST
DTSTART:20251102T060000
END:STANDARD
BEGIN:DAYLIGHT
TZOFFSETFROM:-0500
TZOFFSETTO:-0400
TZNAME:EDT
DTSTART:20260308T070000
END:DAYLIGHT
BEGIN:STANDARD
TZOFFSETFROM:-0400
TZOFFSETTO:-0500
TZNAME:EST
DTSTART:20261101T060000
END:STANDARD
END:VTIMEZONE
BEGIN:VEVENT
DTSTART;TZID=America/Los_Angeles:20250501T120000
DTEND;TZID=America/Los_Angeles:20250501T130000
DTSTAMP:20260419T095955
CREATED:20250403T191058Z
LAST-MODIFIED:20250403T191103Z
UID:10004305-1746100800-1746104400@www.antioch.edu
SUMMARY:Undergraduate Studies Info Session | AUSB
DESCRIPTION:Join us on Thursday\, May 1\, 2025\, 12:00 PM - 1:00 PM PDT to learn how you can complete your bachelor’s degree at AUSB! \n\n\n\nWe offer a Bachelor of Liberal Studies degree with several concentration options in addition to BA degrees in Psychology and Management. Antioch classes are interactive\, engaging\, and taught by faculty members who are invested in their students and fields of study.Individual information sessions may also be set by appointment for Undergraduate Studies by contacting the Admissions Office.For more information\, please contact our Admissions Office at admissions@antioch.edu.
URL:https://www.antioch.edu/event/undergraduate-studies-info-session-ausb-5-1-25/
LOCATION:Virtual Events @ Antioch University
CATEGORIES:Admissions,AUSB Undergraduate Studies
ATTACH;FMTTYPE=image/jpeg:https://www.antioch.edu/wp-content/uploads/2025/04/GettyImages-502253342-scaled-e1743707404545.jpg
ORGANIZER;CN="AUSB Admissions":MAILTO:admissions.ausb@antioch.edu
END:VEVENT
BEGIN:VEVENT
DTSTART;TZID=America/Los_Angeles:20250428T170000
DTEND;TZID=America/Los_Angeles:20250428T180000
DTSTAMP:20260419T095955
CREATED:20250411T173639Z
LAST-MODIFIED:20250411T173640Z
UID:10004315-1745859600-1745863200@www.antioch.edu
SUMMARY:Unlock Your Creative Flow: MFA in Creative Writing Workshop | AU
DESCRIPTION:Join us for a transformative virtual MFA in Creative Writing workshop at Antioch University\, designed to help writers break free from the confines of self-editing. In this dynamic session\, you’ll engage in quick-thinking exercises and short\, energetic writing sprints that encourage you to write from the heart rather than overthinking every word. This workshop is perfect for writers looking to reconnect with their creativity\, overcome self-doubt\, and unlock their authentic voice on the page. Come ready to explore\, experiment\, and embrace the freedom of writing without limits! \n\n\n\nDon't miss this opportunity to unlock your creative potential! Register now for this engaging workshop on Monday\, April 28\, 2025\, 5:00 PM - 6:00 PM PDT\, and start writing from your heart\, not your mind. Spaces are limited\, so secure your spot today! \n\n\n\nThis workshop will be presented by Colette Freedman\, a top Hollywood script doctor and ghostwriter; Colette is the Dramatic Writing Program Officer at Antioch University\, where she mentors students in screenwriting\, TV writing\, and playwriting.
URL:https://www.antioch.edu/event/unlock-your-creative-flow-mfa-in-creative-writing-workshop-au-4-28-25/
LOCATION:Virtual Events @ Antioch University
CATEGORIES:Admissions,AULA Creative Writing
ATTACH;FMTTYPE=image/jpeg:https://www.antioch.edu/wp-content/uploads/2025/02/GettyImages-592680454-scaled-e1738853786681.jpg
ORGANIZER;CN="AULA Admissions":MAILTO:admissions.aula@antioch.edu
END:VEVENT
BEGIN:VEVENT
DTSTART;TZID=America/Los_Angeles:20250426T100000
DTEND;TZID=America/Los_Angeles:20250426T110000
DTSTAMP:20260419T095955
CREATED:20250307T200007Z
LAST-MODIFIED:20250307T200008Z
UID:10004289-1745661600-1745665200@www.antioch.edu
SUMMARY:MFA in Creative Writing Info Session | AULA
DESCRIPTION:Attend our upcoming Master of Fine Arts in Creative Writing Information Session to chat with faculty and learn more about the program and genres you can choose from: Fiction\, Poetry\, Creative Nonfiction\, Writing for Young People\, Writing for the Screen\, Playwriting\, Genre Jumping – Mixed Genre Experience\, and Dual Concentration – Double-Genre! \n\n\n\nThis info session will be held online using Zoom on Saturday\, April 26\, 2025\, 10:00 AM - 11:00 AM PDT. We’ll send an email before the event with the link and details on how to connect!
URL:https://www.antioch.edu/event/mfa-in-creative-writing-info-session-aula-4-26-25/
LOCATION:Virtual Events @ Antioch University
CATEGORIES:Admissions,AULA Creative Writing
ATTACH;FMTTYPE=image/png:https://www.antioch.edu/wp-content/uploads/2025/03/Untitled-design-5.png
ORGANIZER;CN="AULA Admissions":MAILTO:admissions.aula@antioch.edu
END:VEVENT
BEGIN:VEVENT
DTSTART;TZID=America/New_York:20250426T081500
DTEND;TZID=America/New_York:20250426T160000
DTSTAMP:20260419T095955
CREATED:20250418T180708Z
LAST-MODIFIED:20250418T180712Z
UID:10004324-1745655300-1745683200@www.antioch.edu
SUMMARY:In Bloom in Delaware 2025
DESCRIPTION:In Bloom in Delaware 2025 \n\n\n\nat the University of Delaware Lab School \n\n\n\nSaturday\, April 26\, 20258:15 AM – 4:00 PM (Eastern time)Registration Check-In opens at 8:15 AM and the Conference begins promptly at 9:00 am (Eastern Time) \n\n\n\nWorking Professional: $125.00Group Rate: 3 or more registrants from the same school/organization: $100 eachAU Alumni / Current Students of AU and UD: $75.00 \n\n\n\nOn Saturday\, April 26\, 2025\, we will again return to Newark for In Bloom in Delaware. Our conference this year will be part of the 90th Anniversary celebration of the University of Delaware’s Lab School. Due to venue size\, registration will be limited to 90 persons\, and some conference activities will be held at (a walkable distance) at 15 Innovation Way. \n\n\n\nCategory: In Bloom \n\n\n\nStart date: 04/26/2025 \n\n\n\nLocation: Antioch Univ New England \n\n\n\nDelivery mode: Conference
URL:https://www.antioch.edu/event/in-bloom-in-delaware-2025/
CATEGORIES:Admissions,AUNE,AUNE Education
ATTACH;FMTTYPE=image/jpeg:https://www.antioch.edu/wp-content/uploads/2024/01/inbloom-e1705414490880.jpg
END:VEVENT
BEGIN:VEVENT
DTSTART;TZID=America/New_York:20250424T190000
DTEND;TZID=America/New_York:20250424T203000
DTSTAMP:20260419T095955
CREATED:20250312T192209Z
LAST-MODIFIED:20250327T184911Z
UID:10004296-1745521200-1745526600@www.antioch.edu
SUMMARY:Clinical Mental Health Counseling Programs Info Session | AU
DESCRIPTION:Explore the world of mental health counseling with Antioch University. Join us for our online info session to hear more about our Clinical Mental Health Counseling\, Drama Therapy\, Art Therapy\, and School Counseling Programs!  \n\n\n\nThis info session will provide you with an opportunity to learn more about our CACREP-accredited and aligned programs. Antioch offers several delivery options - online with residency\, hybrid classes with on-campus (weekend delivery)\, and low-residency options.Programs include:Master's degrees in Clinical Mental Health Counseling\, School Counseling\, Drama Therapy\, and Art TherapyCertificates in Clinical Mental Health Counseling\, School Counseling\, and more! \n\n\n\nJoin us virtually on Thursday\, April 24\, 2025\, 7:00 PM - 8:30 PM EDT to discover why Antioch University is a good fit for you.
URL:https://www.antioch.edu/event/clinical-mental-health-counseling-programs-info-session-apr-24-4-24-25/
LOCATION:Virtual Events @ Antioch University
CATEGORIES:Admissions,AUNE Clinical Mental Health Counseling,AUS Clinical Mental Health Counseling
ATTACH;FMTTYPE=image/png:https://www.antioch.edu/wp-content/uploads/2025/03/Untitled-design-7.png
ORGANIZER;CN="AUNE Admissions":MAILTO:admissions.ane@antioch.edu
END:VEVENT
BEGIN:VEVENT
DTSTART;TZID=America/New_York:20250424T163000
DTEND;TZID=America/New_York:20250424T173000
DTSTAMP:20260419T095955
CREATED:20250310T185923Z
LAST-MODIFIED:20250310T185928Z
UID:10004293-1745512200-1745515800@www.antioch.edu
SUMMARY:MS in Athletic Training Info Session | AUO
DESCRIPTION:Are you a recent graduate with a bachelor’s in Athletic training\, or will you be graduating from a program soon? Maybe you are early in your bachelor’s program and want to understand more about how to prepare for a Master’s program. Join us on Thursday\, April 24\, 2025\, 4:30 PM - 5:30 PM EDT to learn more about Antioch University’s Master of Science in Athletic Training (MSAT). This program offers hands-on experience in college\, high school\, and clinical environments. \n\n\n\nAntioch University’s MSAT program prepares you to become an influential leader in athletic training\, dedicated to improving the lives of active individuals. Start your journey with us and make a lasting impact in the field.
URL:https://www.antioch.edu/event/ms-in-athletic-training-info-session-auo-4-24-25/
LOCATION:Virtual Events @ Antioch University
CATEGORIES:Admissions,AUO MS Athletic Training
ATTACH;FMTTYPE=image/jpeg:https://www.antioch.edu/wp-content/uploads/2025/03/GettyImages-483045669-scaled-e1741633099973.jpg
END:VEVENT
BEGIN:VEVENT
DTSTART;TZID=America/New_York:20250422T120000
DTEND;TZID=America/New_York:20250422T130000
DTSTAMP:20260419T095955
CREATED:20250312T185322Z
LAST-MODIFIED:20250312T185323Z
UID:10004295-1745323200-1745326800@www.antioch.edu
SUMMARY:MS in Allied Health Info Session | AUO
DESCRIPTION:Join us to learn more about Antioch’s online Master of Science in Allied Health (MSAH)\, with concentrations in Exercise Science & Healthcare Administration. \n\n\n\nDevelop the administrative and critical thinking skills necessary to manage\, communicate\, and lead effectively in a profession that is in high demand. The online MSAH program deepens critical thinking skills and enhances data analysis capabilities. This degree is ideal for those aspiring to leadership roles within educational institutions\, hospitals\, community health centers\, and more. Gain the cultural sensitivity\, communication skills\, and confidence you need to thrive as an industry leader.This info session will be held using Zoom on Tuesday\, April 22\, 2025\, 12:00 PM - 1:00 PM EDT. Login information will be included in your registration confirmation email.
URL:https://www.antioch.edu/event/ms-in-allied-health-info-session-auo-4-22-25/
LOCATION:Virtual Events @ Antioch University
CATEGORIES:Admissions,AUO Allied Health
ATTACH;FMTTYPE=image/jpeg:https://www.antioch.edu/wp-content/uploads/2025/03/GettyImages-2148736113-scaled-e1741805558478.jpg
END:VEVENT
END:VCALENDAR