BEGIN:VCALENDAR
VERSION:2.0
PRODID:-//Antioch University - ECPv6.15.20//NONSGML v1.0//EN
CALSCALE:GREGORIAN
METHOD:PUBLISH
X-ORIGINAL-URL:https://www.antioch.edu
X-WR-CALDESC:Events for Antioch University
REFRESH-INTERVAL;VALUE=DURATION:PT1H
X-Robots-Tag:noindex
X-PUBLISHED-TTL:PT1H
BEGIN:VTIMEZONE
TZID:America/Los_Angeles
BEGIN:DAYLIGHT
TZOFFSETFROM:-0800
TZOFFSETTO:-0700
TZNAME:PDT
DTSTART:20250309T100000
END:DAYLIGHT
BEGIN:STANDARD
TZOFFSETFROM:-0700
TZOFFSETTO:-0800
TZNAME:PST
DTSTART:20251102T090000
END:STANDARD
BEGIN:DAYLIGHT
TZOFFSETFROM:-0800
TZOFFSETTO:-0700
TZNAME:PDT
DTSTART:20260308T100000
END:DAYLIGHT
BEGIN:STANDARD
TZOFFSETFROM:-0700
TZOFFSETTO:-0800
TZNAME:PST
DTSTART:20261101T090000
END:STANDARD
BEGIN:DAYLIGHT
TZOFFSETFROM:-0800
TZOFFSETTO:-0700
TZNAME:PDT
DTSTART:20270314T100000
END:DAYLIGHT
BEGIN:STANDARD
TZOFFSETFROM:-0700
TZOFFSETTO:-0800
TZNAME:PST
DTSTART:20271107T090000
END:STANDARD
END:VTIMEZONE
BEGIN:VTIMEZONE
TZID:America/New_York
BEGIN:DAYLIGHT
TZOFFSETFROM:-0500
TZOFFSETTO:-0400
TZNAME:EDT
DTSTART:20250309T070000
END:DAYLIGHT
BEGIN:STANDARD
TZOFFSETFROM:-0400
TZOFFSETTO:-0500
TZNAME:EST
DTSTART:20251102T060000
END:STANDARD
BEGIN:DAYLIGHT
TZOFFSETFROM:-0500
TZOFFSETTO:-0400
TZNAME:EDT
DTSTART:20260308T070000
END:DAYLIGHT
BEGIN:STANDARD
TZOFFSETFROM:-0400
TZOFFSETTO:-0500
TZNAME:EST
DTSTART:20261101T060000
END:STANDARD
BEGIN:DAYLIGHT
TZOFFSETFROM:-0500
TZOFFSETTO:-0400
TZNAME:EDT
DTSTART:20270314T070000
END:DAYLIGHT
BEGIN:STANDARD
TZOFFSETFROM:-0400
TZOFFSETTO:-0500
TZNAME:EST
DTSTART:20271107T060000
END:STANDARD
END:VTIMEZONE
BEGIN:VEVENT
DTSTART;TZID=America/Los_Angeles:20260616T153000
DTEND;TZID=America/Los_Angeles:20260616T163000
DTSTAMP:20260421T192624
CREATED:20260417T173110Z
LAST-MODIFIED:20260417T173111Z
UID:10004526-1781623800-1781627400@www.antioch.edu
SUMMARY:Education Programs Info Session | AU
DESCRIPTION:Discover the Antioch Difference in Graduate and Post-Graduate Education in our virtual information session! Join us for this session on Tuesday\, June 16\, 2026\, 3:30 PM - 4:30 PM PDT. \n\n\n\nFor over 170 years\, Antioch University has led the way in progressive education—transforming traditional classrooms and empowering educators to create learning environments where every student can thrive. If you're ready to elevate your impact as an educator\, this is your invitation to take the next step. \n\n\n\n📌What You'll Learn \n\n\n\nJoin us for a dynamic\, interactive info session to explore Antioch’s diverse and impactful Graduate and Post-Graduate Education Programs: \n\n\n\n✔️ Master of Arts in Education (MAEd) & Teaching Endorsements✔️ EdD in Educational & Professional Practice✔️ Experienced Educators Master's & Certificate ProgramsIncluding:• Dyslexia Studies (certificate\, MEd)• Educating for Sustainability (certificate\, MEd)• Integrated STEAM Education (certificate\, MEd)• Humane Education (certificate\, MA\, MEd)• Mindfulness for Educators (certificate\, MEd)• Nature-Based Early Childhood Education (certificate\, MEd)• Place-Based Education (certificate\, MEd)• Problem-Based Learning Using Critical Skills (certificate\, MEd)• Self-Designed (certificate\, MEd)• Trauma-Informed Education (certificate\, MEd)• Transformative Education (certificate\, MEd)• Teaching and Learning (certificate\, MEd)• Climate Change and Sustainability Education (MEd) \n\n\n\nWe look forward to connecting with you and helping you take the next step in your academic journey!
URL:https://www.antioch.edu/event/education-programs-info-session-au-6-16-26/
LOCATION:Virtual Events @ Antioch University
CATEGORIES:Admissions,AUS Education
ATTACH;FMTTYPE=image/jpeg:https://www.antioch.edu/wp-content/uploads/2026/04/GettyImages-1994445045-1-e1776445775491.jpg
ORGANIZER;CN="AUS Admissions":MAILTO:admissions.aus@antioch.edu
END:VEVENT
BEGIN:VEVENT
DTSTART;TZID=America/Los_Angeles:20260617T163000
DTEND;TZID=America/Los_Angeles:20260617T173000
DTSTAMP:20260421T192624
CREATED:20260421T180724Z
LAST-MODIFIED:20260421T180725Z
UID:10004527-1781713800-1781717400@www.antioch.edu
SUMMARY:Undergraduate Programs Info Session | AU
DESCRIPTION:Join us from the comfort of your home on Wednesday\, June 17\, 2026\, 4:30 PM - 5:30 PM PDT for a virtual information session designed to help you take the next step in your academic journey and discover available undergraduate programs.During this session\, you'll learn about:• Campus and online program options• Bachelor’s degree completion pathways• Internship opportunities• The admissions process• How to earn credit for prior learning experiences \n\n\n\nHosted by our core faculty and admissions team\, this is your opportunity to explore how Antioch University can support your academic and professional goals.Explore undergraduate programs at:-Antioch University Los Angeles-Antioch University Seattle-Antioch University Santa Barbara-Antioch University Online \n\n\n\nWe look forward to connecting with you and helping you take the next step toward your future!
URL:https://www.antioch.edu/event/undergraduate-programs-info-session-au-6-17-26/
LOCATION:Virtual Events @ Antioch University
CATEGORIES:Admissions,AULA Undergraduate Studies,AUO Undergraduate Studies,AUS Undergraduate Studies,AUSB Undergraduate Studies
ATTACH;FMTTYPE=image/jpeg:https://www.antioch.edu/wp-content/uploads/2026/04/UGS_Study-outside-e1776794422331.jpg
ORGANIZER;CN="AULA Admissions":MAILTO:admissions.aula@antioch.edu
END:VEVENT
BEGIN:VEVENT
DTSTART;TZID=America/Los_Angeles:20260618T160000
DTEND;TZID=America/Los_Angeles:20260618T170000
DTSTAMP:20260421T192624
CREATED:20260420T185604Z
LAST-MODIFIED:20260420T185605Z
UID:10004523-1781798400-1781802000@www.antioch.edu
SUMMARY:Masters in Clinical Psychology (MACP) Info Session | AUSB
DESCRIPTION:Please join us for our MA in Clinical Psychology info session on Thursday\, June 18\, 2026\, 4:00 PM - 5:00 PM PDT to learn about the program\, discuss degree requirements\, and career outcomes with our faculty. Discover options to pursue your Master’s in Clinical Psychology Degree with a concentration in Latinx Mental Health or Somatic Psychotherapy. \n\n\n\nAntioch University Santa Barbara’s Award-winning Master of Arts in Clinical Psychology program emphasizes authentic relationships and understanding diverse identities and perspectives. Our program’s core strongly emphasizes supporting positive change within the greater context of diverse communities and with an eye toward social justice. \n\n\n\nWe look forward to connecting with you!
URL:https://www.antioch.edu/event/masters-in-clinical-psychology-macp-info-session-ausb-6-18-26/
LOCATION:Virtual Events @ Antioch University
CATEGORIES:Admissions,AUSB Clinical Psychology
ATTACH;FMTTYPE=image/jpeg:https://www.antioch.edu/wp-content/uploads/2017/05/AU_Hero_Image-AUSB-MA-clinical-psychology-somatic-psychotherapy5-scaled-e1721842322479.jpg
ORGANIZER;CN="AUSB Admissions":MAILTO:admissions.ausb@antioch.edu
END:VEVENT
BEGIN:VEVENT
DTSTART;TZID=America/New_York:20260618T180000
DTEND;TZID=America/New_York:20260618T190000
DTSTAMP:20260421T192624
CREATED:20260421T192601Z
LAST-MODIFIED:20260421T192603Z
UID:10004528-1781805600-1781809200@www.antioch.edu
SUMMARY:Individualized Masters of Arts Info Session | AUO
DESCRIPTION:Please join the faculty of Antioch’s Individualized Master of Arts programs – MA in Humanities and MA in Social Sciences for an information session about the online program\, courses\, and the unique opportunities available for individualized programs at Antioch. \n\n\n\nAntioch University Online’s Master of Arts in Individualized Studies offers a high degree of flexibility in building a program of study that meets your personal and professional needs. Design a degree program to address a particular intellectual interest or study a multidisciplinary issue by combining existing courses from graduate areas of the University. \n\n\n\nMeet faculty\, learn more about the program\, and bring your questions!This info session will be held using Zoom on Thursday\, June 18\, 2026\, 6:00 PM - 7:00 PM EDT. Login information will be sent in an email confirmation upon registration.
URL:https://www.antioch.edu/event/individualized-masters-of-arts-info-session-auo-6-18-26/
LOCATION:Virtual Events @ Antioch University
CATEGORIES:Admissions,AUO Individualized Studies
ATTACH;FMTTYPE=image/jpeg:https://www.antioch.edu/wp-content/uploads/2026/04/collage-of-earth-and-faces-1-scaled-e1776799529428.jpg
END:VEVENT
BEGIN:VEVENT
DTSTART;TZID=America/New_York:20260625T190000
DTEND;TZID=America/New_York:20260625T203000
DTSTAMP:20260421T192624
CREATED:20260414T185735Z
LAST-MODIFIED:20260420T202612Z
UID:10004521-1782414000-1782419400@www.antioch.edu
SUMMARY:Counseling Programs Info Session | AU
DESCRIPTION:Explore the world of mental health counseling with Antioch University. Join us for our online info session to hear more about our Clinical Mental Health Counseling\, Art Therapy\, and School Counseling Programs!  \n\n\n\nThis info session will provide you with an opportunity to learn more about our CACREP-accredited and aligned programs. Antioch offers several delivery options - online with residency\, hybrid classes with on-campus (weekend delivery)\, and low-residency options.Programs include:Master's degrees in Clinical Mental Health Counseling\, School Counseling\, and Art TherapyCertificates in Clinical Mental Health Counseling\, School Counseling\, and more! \n\n\n\nJoin us for this session on Thursday\, June 25\, 2026\, 7:00 PM - 8:30 PM EDT to discover why Antioch University is a good fit for you.
URL:https://www.antioch.edu/event/counseling-programs-info-session-au-6-25-26/
LOCATION:Virtual Events @ Antioch University
CATEGORIES:Admissions,AUNE Clinical Mental Health Counseling,AUS Clinical Mental Health Counseling
ATTACH;FMTTYPE=image/jpeg:https://www.antioch.edu/wp-content/uploads/2026/04/landscape-with-hands-forming-heart-e1776193028173.jpg
ORGANIZER;CN="AUNE Admissions":MAILTO:admissions.ane@antioch.edu
END:VEVENT
END:VCALENDAR